BEGIN:VCALENDAR
VERSION:2.0
PRODID:-//VARR - Virginia Association of Recovery Residences - ECPv6.15.20//NONSGML v1.0//EN
CALSCALE:GREGORIAN
METHOD:PUBLISH
X-WR-CALNAME:VARR - Virginia Association of Recovery Residences
X-ORIGINAL-URL:https://varronline.org
X-WR-CALDESC:Events for VARR - Virginia Association of Recovery Residences
REFRESH-INTERVAL;VALUE=DURATION:PT1H
X-Robots-Tag:noindex
X-PUBLISHED-TTL:PT1H
BEGIN:VTIMEZONE
TZID:America/New_York
BEGIN:DAYLIGHT
TZOFFSETFROM:-0500
TZOFFSETTO:-0400
TZNAME:EDT
DTSTART:20200308T070000
END:DAYLIGHT
BEGIN:STANDARD
TZOFFSETFROM:-0400
TZOFFSETTO:-0500
TZNAME:EST
DTSTART:20201101T060000
END:STANDARD
BEGIN:DAYLIGHT
TZOFFSETFROM:-0500
TZOFFSETTO:-0400
TZNAME:EDT
DTSTART:20210314T070000
END:DAYLIGHT
BEGIN:STANDARD
TZOFFSETFROM:-0400
TZOFFSETTO:-0500
TZNAME:EST
DTSTART:20211107T060000
END:STANDARD
BEGIN:DAYLIGHT
TZOFFSETFROM:-0500
TZOFFSETTO:-0400
TZNAME:EDT
DTSTART:20220313T070000
END:DAYLIGHT
BEGIN:STANDARD
TZOFFSETFROM:-0400
TZOFFSETTO:-0500
TZNAME:EST
DTSTART:20221106T060000
END:STANDARD
BEGIN:DAYLIGHT
TZOFFSETFROM:-0500
TZOFFSETTO:-0400
TZNAME:EDT
DTSTART:20230312T070000
END:DAYLIGHT
BEGIN:STANDARD
TZOFFSETFROM:-0400
TZOFFSETTO:-0500
TZNAME:EST
DTSTART:20231105T060000
END:STANDARD
BEGIN:DAYLIGHT
TZOFFSETFROM:-0500
TZOFFSETTO:-0400
TZNAME:EDT
DTSTART:20240310T070000
END:DAYLIGHT
BEGIN:STANDARD
TZOFFSETFROM:-0400
TZOFFSETTO:-0500
TZNAME:EST
DTSTART:20241103T060000
END:STANDARD
BEGIN:DAYLIGHT
TZOFFSETFROM:-0500
TZOFFSETTO:-0400
TZNAME:EDT
DTSTART:20250309T070000
END:DAYLIGHT
BEGIN:STANDARD
TZOFFSETFROM:-0400
TZOFFSETTO:-0500
TZNAME:EST
DTSTART:20251102T060000
END:STANDARD
BEGIN:DAYLIGHT
TZOFFSETFROM:-0500
TZOFFSETTO:-0400
TZNAME:EDT
DTSTART:20260308T070000
END:DAYLIGHT
BEGIN:STANDARD
TZOFFSETFROM:-0400
TZOFFSETTO:-0500
TZNAME:EST
DTSTART:20261101T060000
END:STANDARD
BEGIN:DAYLIGHT
TZOFFSETFROM:-0500
TZOFFSETTO:-0400
TZNAME:EDT
DTSTART:20270314T070000
END:DAYLIGHT
BEGIN:STANDARD
TZOFFSETFROM:-0400
TZOFFSETTO:-0500
TZNAME:EST
DTSTART:20271107T060000
END:STANDARD
END:VTIMEZONE
BEGIN:VEVENT
DTSTART;TZID=America/New_York:20260326T120000
DTEND;TZID=America/New_York:20260326T130000
DTSTAMP:20260420T172325
CREATED:20260105T185308Z
LAST-MODIFIED:20260105T185308Z
UID:4416-1774526400-1774530000@varronline.org
SUMMARY:VARR Accreditation 101 Open Call - March 2026
DESCRIPTION:In 2026\, join VARR on the 4th Thursday of each month at 12pm for our VARR Accreditation 101 Open Call.\n\n\nThis is a virtual call geared towards recovery residence operators seeking accreditation for the first or any community stakeholder that wants to learn about VARR.\n\n\nAt every call we will:\n Provide an overview of VARR\n Review the National Alliance for Recovery Residences & the NARR Standard 3.0\n Review the VARR Accreditation Process & supporting materials\n Introduce VARR’s online Accreditation Management Platform\n Review relevant state laws\, recovery residence trends and more\n\n\nNo registration required – check out the flyers for more information or visit:https://varronline.org/certification-overview/
URL:https://varronline.org/event/varr-accreditation-101-open-call-march-2026/
ATTACH;FMTTYPE=image/png:https://varronline.org/wp-content/uploads/2-1.png
END:VEVENT
BEGIN:VEVENT
DTSTART;TZID=America/New_York:20260226T120000
DTEND;TZID=America/New_York:20260226T130000
DTSTAMP:20260420T172325
CREATED:20260105T185218Z
LAST-MODIFIED:20260105T185218Z
UID:4414-1772107200-1772110800@varronline.org
SUMMARY:VARR Accreditation 101 Open Call - February 2026
DESCRIPTION:In 2026\, join VARR on the 4th Thursday of each month at 12pm for our VARR Accreditation 101 Open Call.\n\n\nThis is a virtual call geared towards recovery residence operators seeking accreditation for the first or any community stakeholder that wants to learn about VARR.\n\n\nAt every call we will:\n Provide an overview of VARR\n Review the National Alliance for Recovery Residences & the NARR Standard 3.0\n Review the VARR Accreditation Process & supporting materials\n Introduce VARR’s online Accreditation Management Platform\n Review relevant state laws\, recovery residence trends and more\n\n\nNo registration required – check out the flyers for more information or visit:https://varronline.org/certification-overview/
URL:https://varronline.org/event/varr-accreditation-101-open-call-february-2026/
ATTACH;FMTTYPE=image/png:https://varronline.org/wp-content/uploads/2-1.png
END:VEVENT
BEGIN:VEVENT
DTSTART;TZID=America/New_York:20260122T120000
DTEND;TZID=America/New_York:20260122T130000
DTSTAMP:20260420T172325
CREATED:20260105T185031Z
LAST-MODIFIED:20260105T185031Z
UID:4412-1769083200-1769086800@varronline.org
SUMMARY:VARR Accreditation 101 Open Call - January 2026
DESCRIPTION:In 2026\, join VARR on the 4th Thursday of each month at 12pm for our VARR Accreditation 101 Open Call.\n\n\nThis is a virtual call geared towards recovery residence operators seeking accreditation for the first or any community stakeholder that wants to learn about VARR.\n\n\nAt every call we will:\n Provide an overview of VARR\n Review the National Alliance for Recovery Residences & the NARR Standard 3.0\n Review the VARR Accreditation Process & supporting materials\n Introduce VARR’s online Accreditation Management Platform\n Review relevant state laws\, recovery residence trends and more\n\nNo registration required – check out the flyers for more information or visit:https://varronline.org/certification-overview/
URL:https://varronline.org/event/varr-accreditation-101-open-call-january-2026/
ATTACH;FMTTYPE=image/png:https://varronline.org/wp-content/uploads/2-1.png
END:VEVENT
BEGIN:VEVENT
DTSTART;TZID=America/New_York:20251023T100000
DTEND;TZID=America/New_York:20251023T110000
DTSTAMP:20260420T172325
CREATED:20250228T173701Z
LAST-MODIFIED:20250228T173701Z
UID:3925-1761213600-1761217200@varronline.org
SUMMARY:Recovery Residence Operator Open Call - October
DESCRIPTION:2025 VARR Recovery Residence Operator Open Call \n\n4th Thursday of each month\n10am – 11am\nRegistration required\nContact matthewc@varronline.org for the registration link
URL:https://varronline.org/event/recovery-residence-operator-open-call-october/
ATTACH;FMTTYPE=image/png:https://varronline.org/wp-content/uploads/VARR_2025OpenCall.png
END:VEVENT
BEGIN:VEVENT
DTSTART;TZID=America/New_York:20250925T100000
DTEND;TZID=America/New_York:20250925T110000
DTSTAMP:20260420T172325
CREATED:20250228T173610Z
LAST-MODIFIED:20250228T173610Z
UID:3923-1758794400-1758798000@varronline.org
SUMMARY:Recovery Residence Operator Open Call - September
DESCRIPTION:2025 VARR Recovery Residence Operator Open Call \n\n4th Thursday of each month\n10am – 11am\nRegistration required\nContact matthewc@varronline.org for the registration link
URL:https://varronline.org/event/recovery-residence-operator-open-call-september/
ATTACH;FMTTYPE=image/png:https://varronline.org/wp-content/uploads/VARR_2025OpenCall.png
END:VEVENT
BEGIN:VEVENT
DTSTART;TZID=America/New_York:20250828T100000
DTEND;TZID=America/New_York:20250828T110000
DTSTAMP:20260420T172325
CREATED:20250228T173432Z
LAST-MODIFIED:20250228T173432Z
UID:3921-1756375200-1756378800@varronline.org
SUMMARY:Recovery Residence Operator Open Call - August
DESCRIPTION:2025 VARR Recovery Residence Operator Open Call \n\n4th Thursday of each month\n10am – 11am\nRegistration required\nContact matthewc@varronline.org for the registration link
URL:https://varronline.org/event/recovery-residence-operator-open-call-august/
ATTACH;FMTTYPE=image/png:https://varronline.org/wp-content/uploads/VARR_2025OpenCall.png
END:VEVENT
BEGIN:VEVENT
DTSTART;TZID=America/New_York:20250724T100000
DTEND;TZID=America/New_York:20250724T110000
DTSTAMP:20260420T172325
CREATED:20250228T173341Z
LAST-MODIFIED:20250228T173527Z
UID:3919-1753351200-1753354800@varronline.org
SUMMARY:Recovery Residence Operator Open Call - July
DESCRIPTION:2025 VARR Recovery Residence Operator Open Call \n\n4th Thursday of each month\n10am – 11am\nRegistration required\nContact matthewc@varronline.org for the registration link
URL:https://varronline.org/event/recovery-residence-operator-open-call-july/
ATTACH;FMTTYPE=image/png:https://varronline.org/wp-content/uploads/VARR_2025OpenCall.png
END:VEVENT
BEGIN:VEVENT
DTSTART;TZID=America/New_York:20250626T100000
DTEND;TZID=America/New_York:20250626T110000
DTSTAMP:20260420T172325
CREATED:20250228T173306Z
LAST-MODIFIED:20250228T173306Z
UID:3917-1750932000-1750935600@varronline.org
SUMMARY:Recovery Residence Operator Open Call - June
DESCRIPTION:2025 VARR Recovery Residence Operator Open Call \n\n4th Thursday of each month\n10am – 11am\nRegistration required\nContact matthewc@varronline.org for the registration link
URL:https://varronline.org/event/recovery-residence-operator-open-call-june/
ATTACH;FMTTYPE=image/png:https://varronline.org/wp-content/uploads/VARR_2025OpenCall.png
END:VEVENT
BEGIN:VEVENT
DTSTART;TZID=America/New_York:20250522T100000
DTEND;TZID=America/New_York:20250522T110000
DTSTAMP:20260420T172325
CREATED:20250228T173202Z
LAST-MODIFIED:20250228T173202Z
UID:3915-1747908000-1747911600@varronline.org
SUMMARY:Recovery Residence Operator Open Call - May
DESCRIPTION:2025 VARR Recovery Residence Operator Open Call \n\n4th Thursday of each month\n10am – 11am\nRegistration required\nContact matthewc@varronline.org for the registration link
URL:https://varronline.org/event/recovery-residence-operator-open-call-may/
ATTACH;FMTTYPE=image/png:https://varronline.org/wp-content/uploads/VARR_2025OpenCall.png
END:VEVENT
BEGIN:VEVENT
DTSTART;TZID=America/New_York:20250424T100000
DTEND;TZID=America/New_York:20250424T110000
DTSTAMP:20260420T172325
CREATED:20250228T173059Z
LAST-MODIFIED:20250228T173059Z
UID:3913-1745488800-1745492400@varronline.org
SUMMARY:Recovery Residence Operator Open Call - April
DESCRIPTION:2025 VARR Recovery Residence Operator Open Call \n\n4th Thursday of each month\n10am – 11am\nRegistration required\nContact matthewc@varronline.org for the registration link
URL:https://varronline.org/event/recovery-residence-operator-open-call-april/
ATTACH;FMTTYPE=image/png:https://varronline.org/wp-content/uploads/VARR_2025OpenCall.png
END:VEVENT
BEGIN:VEVENT
DTSTART;TZID=America/New_York:20250327T100000
DTEND;TZID=America/New_York:20250327T110000
DTSTAMP:20260420T172325
CREATED:20250228T172754Z
LAST-MODIFIED:20250228T172829Z
UID:3910-1743069600-1743073200@varronline.org
SUMMARY:VARR Recovery Residence Operator Open Call
DESCRIPTION:2025 VARR Recovery Residence Operator Open Call \n\n4th Thursday of each month\n10am – 11am\nRegistration required\nContact matthewc@varronline.org for the registration link
URL:https://varronline.org/event/varr-recovery-residence-operator-open-call/
LOCATION:Zoom
ATTACH;FMTTYPE=image/png:https://varronline.org/wp-content/uploads/VARR_2025OpenCall.png
ORGANIZER;CN="VARR":MAILTO:talexander@varronline.org
END:VEVENT
BEGIN:VEVENT
DTSTART;TZID=America/New_York:20231102T100000
DTEND;TZID=America/New_York:20231103T140000
DTSTAMP:20260420T172325
CREATED:20230918T171949Z
LAST-MODIFIED:20230918T204704Z
UID:3581-1698919200-1699020000@varronline.org
SUMMARY:Communities Project Impact Leadership Training
DESCRIPTION:Hosted by the Virginia Association of Recovery Residences (VARR)\, this is a DBHDS Year of the Peer 2023 event.\n \nThis a 2-day\, in-person training held at the Holiday Inn located at 2000 Staples Mill Rd\, Richmond\, VA 23230.\n\nNovember 2: 10am-5pm\nNovember 3: 9am-2pm\n\n\n\nApplications will be accepted until October 20\, 2023. To apply for this training click the link. https://forms.gle/aeYg3wHLLvhph9Fr8\n\nApproved applicants will be notified via email by October 23\, 2023.\n\n\nThe Communities Project’s Impact Leadership training is centered around the following beliefs: \n\n\nLeadership is a natural expression – we do not “create” leaders\nLeadership development is the process by which an individual determines how they are blocking themselves from their desired results\nWhen leaders identify their own roadblocks to success\, they are able to achieve stronger outcomes\, and aid more individuals in their efforts\n\nOur training is not designed to “teach” individuals how to engage in any specific activity. Rather\, our training focuses on the following principles as a guideline to produce stronger results in that process:\n\n\nLeading with responsibility\nBeing Self Reflective & Seeking Feedback\nSpeaking to the Leader in Everyone
URL:https://varronline.org/event/communities-project-impact-leadership-training/
LOCATION:Holiday Inn Expres\, 2000 Staples Mill Rd\, Richmond\, VA\, 23230\, United States
ATTACH;FMTTYPE=image/png:https://varronline.org/wp-content/uploads/Untitled-design-1.png
END:VEVENT
BEGIN:VEVENT
DTSTART;VALUE=DATE:20231009
DTEND;VALUE=DATE:20231012
DTSTAMP:20260420T172325
CREATED:20230517T134437Z
LAST-MODIFIED:20230517T134437Z
UID:3426-1696809600-1697068799@varronline.org
SUMMARY:NARR 2023 Best Practices Summit
DESCRIPTION:As the foremost organization of recovery housing standards in the nation\, the NATIONAL ALLIANCE FOR RECOVERY RESIDENCES impacts dozens of states. Our annual summit is a chance to share the latest initiatives\, research\, and social model theory. For over a decade\, NARR has provided recovery residences a unifying framework to foster recovery communities\, not just sober houses. Join us in Michigan to learn about the latest in recovery housing best practices\, technology\, diversity & inclusion efforts\, and hear from top experts about the latest research and policies. \n2023 Theme: RECOVERY OUT LOUD \nMonday\, October 9\, 2023 – Wednesday\, October 11\, 2023 \n300 Town Center Dr\nDearborn\, MI 48126\nUnited States\nIMPORTANT DATES \nRegistration opens early July. \nRegistration closes October 1.
URL:https://varronline.org/event/narr-2023-best-practices-summit/
LOCATION:Henry Hotel Dearborn\, 300 Town Center Dr\, Dearborn\, MI\, 48126\, United States
ATTACH;FMTTYPE=image/png:https://varronline.org/wp-content/uploads/Screen-Shot-2023-05-17-at-9.39.04-AM.png
ORGANIZER;CN="NARR":MAILTO:info@narronline.org
END:VEVENT
BEGIN:VEVENT
DTSTART;VALUE=DATE:20221024
DTEND;VALUE=DATE:20221027
DTSTAMP:20260420T172325
CREATED:20220802T182831Z
LAST-MODIFIED:20220803T140513Z
UID:2436-1666569600-1666828799@varronline.org
SUMMARY:NARR Best Practices Summit 2022
DESCRIPTION:Register now for the 2022 NARR Best Practice Summit held October 24-26\, 2022\, in Richmond\, Virginia! We’ve got an exciting lineup of speakers and sponsors this year that we can’t wait for you to meet! Learn about the latest in recovery housing best practices\, technology\, diversity and inclusion efforts\, and hear from top experts about the latest research and policies. \nThis year’s theme is Better Together\, and we are better with YOU!  Register before August 12\, 2022\, to take advantage of the early-bird rate of $550 for affiliates/$600 non-affiliates. Price includes 30-day access to all session recordings—so no worrying about picking which breakout to attend! To help alleviate some stress\, we’re offering our relaxed cancellation policy. There will be no penalty for cancellations received by September 1. Space for in-person registrants is limited so don’t wait! Register today! \nNot able to make it in-person? Our Virtual registration livestreams the entire main room directly to the comfort of your home and offers the same 30-day access to all session recordings—for only $200! You can always upgrade to In-Person before October 10\, subject to space availability\, if your plans change. \nNote that CEUs are not available for virtual sessions or viewing of session recordings. \nClick here to register now!  \nFor questions about the NARR Best Practice Summit\, email conference@narronline.org.
URL:https://varronline.org/event/narr-best-practices-summit-2022/
LOCATION:Marriot Hotel\, 500 E Broad St\, Richmond\, VA\, 23219\, United States
ATTACH;FMTTYPE=image/png:https://varronline.org/wp-content/uploads/Screen-Shot-2022-08-03-at-9.59.24-AM.png
ORGANIZER;CN="NARR":MAILTO:info@narronline.org
END:VEVENT
BEGIN:VEVENT
DTSTART;TZID=America/New_York:20220929T093000
DTEND;TZID=America/New_York:20220929T103000
DTSTAMP:20260420T172325
CREATED:20220926T124934Z
LAST-MODIFIED:20220928T141906Z
UID:2879-1664443800-1664447400@varronline.org
SUMMARY:Making Recovery Possible: A Virtual Community Conversation and Celebration of Recovery\, Treatment and Prevention
DESCRIPTION:The Virginia Association of Recovery Residences (VARR) is hosting a virtual community conversation to celebrate making recovery possible in recognition of National Recovery Month and explore the need to increase prevention measures\, access to treatment\, and reduce barriers to recovery support services. \nWe hope you’ll join us for this virtual community conversation on Thursday\, September 29 at 9:30AM-EST moderated by Anthony Grimes\, Executive Director of VARR\, featuring Commissioner Nelson Smith\, Virginia Department of Behavioral Health and Developmental Services; Jim Newton\, Chief Administrative Officer\, Tucker Pavilion at HCA Virginia’s Chippenham Hospital; and David Rook\, Managing Partner\, True Recovery RVA. \nVirtual Event: Making Recovery Possible: A Virtual Community Conversation and Celebration of Recovery\, Treatment and Prevention \nDate: Thursday\, September 29\, 2022 \nTime: 9:30AM – 10:30AM-EST \nLocation: The virtual event will also be hosted on Zoom. Please register here. \nThe event is free and open to the public and press. Upon registration\, you will receive a confirmation email containing a link and information about joining the webinar.  \nModerator:  \n\nAnthony Grimes\, Executive Director\, VARR \n\nPanelists:  \n\nCommissioner Nelson Smith\, Virginia Department of Behavioral Health and Developmental Services\n Jim Newton\, Chief Administrative Officer\, Tucker Pavilion at HCA Virginia’s Chippenham Hospital\n David Rook\, Managing Partner\, True Recovery RVA\n\n 
URL:https://varronline.org/event/making-recovery-possible-a-virtual-community-conversation-and-celebration-of-recovery-treatment-and-prevention/
LOCATION:Zoom
ATTACH;FMTTYPE=image/png:https://varronline.org/wp-content/uploads/VARR-Semptember-Event-Graphic-Facebook3.png
END:VEVENT
BEGIN:VEVENT
DTSTART;TZID=America/New_York:20220831T150000
DTEND;TZID=America/New_York:20220831T160000
DTSTAMP:20260420T172325
CREATED:20220803T135805Z
LAST-MODIFIED:20220803T140655Z
UID:2439-1661958000-1661961600@varronline.org
SUMMARY:VARR Monthly Open Call
DESCRIPTION:Join VARR staff on the last Wednesday of the month from 3pm – 4pm for our Stakeholders Open Call. This is an open meeting for operators\, community stakeholders and those interested to engage with VARR staff. Topics discussed include: \n\nBest & Common Practices\nChallenges in the recovery residence space\nVARR Board Meeting review\nTrends in the recovery community & VARR\nUpcoming events & trainings\n\n  \nZOOM ID: 831 9067 8565 \nPassword: 54321 \nContact bobd@varronline.org with any questions about the monthly open call.
URL:https://varronline.org/event/varr-monthly-open-call/
LOCATION:Zoom
ATTACH;FMTTYPE=image/png:https://varronline.org/wp-content/uploads/Screen-Shot-2022-06-30-at-11.24.20-AM.png
ORGANIZER;CN="VARR":MAILTO:talexander@varronline.org
END:VEVENT
BEGIN:VEVENT
DTSTART;TZID=America/New_York:20220808T143000
DTEND;TZID=America/New_York:20220808T153000
DTSTAMP:20260420T172325
CREATED:20220803T135008Z
LAST-MODIFIED:20220804T143748Z
UID:2448-1659969000-1659972600@varronline.org
SUMMARY:Reducing the Stigma: BIPOC Mental Health Month & Beyond
DESCRIPTION:Reducing the Stigma: BIPOC Mental Health Month & Beyond \n Overview: \nThe Virginia Association of Recovery Residences (VARR) is partnering along with the NAACP Richmond Branch for our virtual panel discussion to continue to highlight the importance of BIPOC Mental Health Month. We hope you’ll join us for this virtual event on Monday\, August 8th at 2:30PM-EST moderated by Anthony Grimes\, Executive Director of VARR\, featuring Richmond Mayor Levar Stoney; Randy Wilson\, Host of the Randy Wilson Podcast & State Director of Business Development for the Chesterfield Site\, Family Insight; Reverend Robert Winfree\, former Mental Health Counselor\, Richmond Behavioral Health Authority and NAACP Richmond Branch Member; and Cynthia Benbow\, Executive Director of Behavioral Services at HCA Virginia’s StoneSprings Hospital Center. \nDuring the event we will explore the impact the COVID-19 pandemic has had on mental health in Richmond’s Black community. Additionally\, the panelists will discuss the impact of COVID-19 on the mental health needs of the Black community and other underrepresented communities\, including (but not limited to) reducing barriers to access mental health care services\, such as insurance coverage discrimination\, cultural stigmas\, transportation and geography. \n Virtual Event: Reducing the Stigma: BIPOC Mental Health Month & Beyond \nDate: Monday\, August 8th \n Time: 2:30-3:30PM-EST \nLocation: The virtual event will also be hosted on Zoom. Please register here. \n Upon registration\, you will receive a confirmation email containing a link and information about joining the webinar. Q&A time will be limited\, please submit your questions in advance to be added to the queue for the forum by clicking here.  \n Moderator:  \n\nAnthony Grimes\, Executive Director\, VARR \n\n Participants: \n\n Richmond Mayor Levar Stoney \n Randy Wilson\, Host of the Randy Wilson Podcast & State Director of Business Development for the Chesterfield Site\, Family Insight\n Reverend Robert Winfree\, former Mental Health Counselor\, Richmond Behavioral Health Authority and NAACP Richmond Branch Member\n Cynthia Benbow\, Executive Director of Behavioral Services at HCA Virginia’s StoneSprings Hospital Center
URL:https://varronline.org/event/reducing-the-stigma-bipoc-mental-health-month-beyond/
LOCATION:Zoom
ATTACH;FMTTYPE=image/png:https://varronline.org/wp-content/uploads/VARR-Event-Graphic-Portrait-V2.png
ORGANIZER;CN="VARR":MAILTO:talexander@varronline.org
END:VEVENT
BEGIN:VEVENT
DTSTART;VALUE=DATE:20211024
DTEND;VALUE=DATE:20211027
DTSTAMP:20260420T172325
CREATED:20210902T193416Z
LAST-MODIFIED:20210902T193420Z
UID:1937-1635033600-1635292799@varronline.org
SUMMARY:
DESCRIPTION:
URL:https://varronline.org/event/1937/
LOCATION:The Omni Hotel\, 100 S 12th St\,\, Richmond\, Virginia\, 23219\, United States
ORGANIZER;CN="VARR":MAILTO:talexander@varronline.org
END:VEVENT
BEGIN:VEVENT
DTSTART;TZID=America/New_York:20210926T120000
DTEND;TZID=America/New_York:20210926T160000
DTSTAMP:20260420T172325
CREATED:20210917T200543Z
LAST-MODIFIED:20210917T201238Z
UID:2135-1632657600-1632672000@varronline.org
SUMMARY:1st Annual Loudoun Recovery Fest
DESCRIPTION:
URL:https://varronline.org/event/1st-annual-loudoun-recovery-fest/
LOCATION:47001 Fairway Dr\, 47001 Fairway Dr\, Sterling\, VA\, United States
END:VEVENT
BEGIN:VEVENT
DTSTART;TZID=America/New_York:20210831T180000
DTEND;TZID=America/New_York:20210831T193000
DTSTAMP:20260420T172325
CREATED:20210820T192555Z
LAST-MODIFIED:20210820T192555Z
UID:1908-1630432800-1630438200@varronline.org
SUMMARY:Candlelight Vigil for Overdose Awareness Day
DESCRIPTION:
URL:https://varronline.org/event/candlelight-vigil-for-overdose-awareness-day/
LOCATION:The McShin Foundation\, 2300 Dumbarton Rd\, Richmond\, VA\, 23228\, United States
END:VEVENT
END:VCALENDAR